BEGIN:VCALENDAR
VERSION:2.0
PRODID:-//CalvaryPHX - ECPv6.9.0//NONSGML v1.0//EN
CALSCALE:GREGORIAN
METHOD:PUBLISH
X-WR-CALNAME:CalvaryPHX
X-ORIGINAL-URL:https://calvaryphx.com
X-WR-CALDESC:Events for CalvaryPHX
REFRESH-INTERVAL;VALUE=DURATION:PT1H
X-Robots-Tag:noindex
X-PUBLISHED-TTL:PT1H
BEGIN:VTIMEZONE
TZID:America/Phoenix
BEGIN:STANDARD
TZOFFSETFROM:-0700
TZOFFSETTO:-0700
TZNAME:MST
DTSTART:20280101T000000
END:STANDARD
END:VTIMEZONE
BEGIN:VEVENT
DTSTART;TZID=America/Phoenix:20280420T060000
DTEND;TZID=America/Phoenix:20280420T080000
DTSTAMP:20260423T031245
CREATED:20260420T041601Z
LAST-MODIFIED:20260420T041604Z
UID:10010318-1839823200-1839830400@calvaryphx.com
SUMMARY:Morning Prayer
DESCRIPTION:Did you know that there are prayer groups meeting every morning at CalvaryPHX? It is a time for CalvaryPHX to come together in prayer and petition\, with thanksgiving\, to present our requests to God.\n\nYou can submit a prayer request in the atriums or online. Or\, join us at any or all of our gatherings:\n\nMondays-Fridays – 6:00amNW Campus – Children’s Worship Room \nNo reservations required; come as you are!
URL:https://calvaryphx.com/event/morning-prayer-877/
CATEGORIES:Recurring
ATTACH;FMTTYPE=image/jpeg:https://calvaryphx.com/wp-content/uploads/2026/04/tecevent-morning-prayer-876.jpeg
END:VEVENT
BEGIN:VEVENT
DTSTART;TZID=America/Phoenix:20280420T060000
DTEND;TZID=America/Phoenix:20280420T080000
DTSTAMP:20260423T031245
CREATED:20260420T041605Z
LAST-MODIFIED:20260420T041607Z
UID:10010319-1839823200-1839830400@calvaryphx.com
SUMMARY:Morning Prayer
DESCRIPTION:Did you know that there are prayer groups meeting every morning at CalvaryPHX? It is a time for CalvaryPHX to come together in prayer and petition\, with thanksgiving\, to present our requests to God.\n\nYou can submit a prayer request in the atriums or online. Or\, join us at any or all of our gatherings:\n\nMondays-Fridays – 6:00amNW Campus – Children’s Worship Room \nNo reservations required; come as you are!
URL:https://calvaryphx.com/event/morning-prayer-878/
CATEGORIES:Recurring
ATTACH;FMTTYPE=image/jpeg:https://calvaryphx.com/wp-content/uploads/2026/04/tecevent-morning-prayer-877.jpeg
END:VEVENT
BEGIN:VEVENT
DTSTART;TZID=America/Phoenix:20280421T060000
DTEND;TZID=America/Phoenix:20280421T080000
DTSTAMP:20260423T031245
CREATED:20260421T031557Z
LAST-MODIFIED:20260421T031600Z
UID:10010321-1839909600-1839916800@calvaryphx.com
SUMMARY:Morning Prayer
DESCRIPTION:Did you know that there are prayer groups meeting every morning at CalvaryPHX? It is a time for CalvaryPHX to come together in prayer and petition\, with thanksgiving\, to present our requests to God.\n\nYou can submit a prayer request in the atriums or online. Or\, join us at any or all of our gatherings:\n\nMondays-Fridays – 6:00amNW Campus – Children’s Worship Room \nNo reservations required; come as you are!
URL:https://calvaryphx.com/event/morning-prayer-131/
CATEGORIES:Recurring
ATTACH;FMTTYPE=image/jpeg:https://calvaryphx.com/wp-content/uploads/2026/04/tecevent-morning-prayer-13.jpeg
END:VEVENT
BEGIN:VEVENT
DTSTART;TZID=America/Phoenix:20280421T060000
DTEND;TZID=America/Phoenix:20280421T080000
DTSTAMP:20260423T031245
CREATED:20260421T031600Z
LAST-MODIFIED:20260421T031602Z
UID:10010322-1839909600-1839916800@calvaryphx.com
SUMMARY:Morning Prayer
DESCRIPTION:Did you know that there are prayer groups meeting every morning at CalvaryPHX? It is a time for CalvaryPHX to come together in prayer and petition\, with thanksgiving\, to present our requests to God.\n\nYou can submit a prayer request in the atriums or online. Or\, join us at any or all of our gatherings:\n\nMondays-Fridays – 6:00amNW Campus – Children’s Worship Room \nNo reservations required; come as you are!
URL:https://calvaryphx.com/event/morning-prayer-879/
CATEGORIES:Recurring
ATTACH;FMTTYPE=image/jpeg:https://calvaryphx.com/wp-content/uploads/2026/04/tecevent-morning-prayer-878.jpeg
END:VEVENT
BEGIN:VEVENT
DTSTART;TZID=America/Phoenix:20280421T190000
DTEND;TZID=America/Phoenix:20280421T203000
DTSTAMP:20260423T031245
CREATED:20260421T031602Z
LAST-MODIFIED:20260421T031604Z
UID:10010323-1839956400-1839961800@calvaryphx.com
SUMMARY:Friday Night Prayer
DESCRIPTION:A weekly prayer group to lift up our congregation and community in prayer.  \nFridays\, 7:00pmCentral Campus – Room 204 \nNo reservations required; come as you are!
URL:https://calvaryphx.com/event/friday-night-prayer-26/
CATEGORIES:Recurring
ATTACH;FMTTYPE=image/jpeg:https://calvaryphx.com/wp-content/uploads/2026/04/tecevent-friday-night-prayer-2.jpeg
END:VEVENT
BEGIN:VEVENT
DTSTART;TZID=America/Phoenix:20280423T074500
DTEND;TZID=America/Phoenix:20280423T090000
DTSTAMP:20260423T031245
CREATED:20260423T041533Z
LAST-MODIFIED:20260423T041535Z
UID:10010341-1840088700-1840093200@calvaryphx.com
SUMMARY:Men's Bible Study - 7:45am
DESCRIPTION:Join Men of Calvary for this 7:45am Bible Study on Sundays.  \nCoffee and snacks provided. \nSundays\, 7:45amCentral Campus\, Room 209
URL:https://calvaryphx.com/event/mens-bible-study-745am-26/
CATEGORIES:Recurring
ATTACH;FMTTYPE=image/jpeg:https://calvaryphx.com/wp-content/uploads/2026/04/tecevent-mens-bible-study-745am-1.jpeg
END:VEVENT
BEGIN:VEVENT
DTSTART;TZID=America/Phoenix:20280423T090000
DTEND;TZID=America/Phoenix:20280423T100000
DTSTAMP:20260423T031245
CREATED:20260423T041535Z
LAST-MODIFIED:20260423T041536Z
UID:10010342-1840093200-1840096800@calvaryphx.com
SUMMARY:Faith Today
DESCRIPTION:MEETING OFFSITE ON 3/22. Join us at White Tank Mountain Regional Park: 8am for breakfast and 9am for service.  \nBible study and fellowship for married and single adults. In addition to our weekly class\, frequent Faith Today events provide opportunities to grow together.  No enrollment necessary – you’re welcome to join us at any time. We gather every Sunday except for major holidays. \nSundays\, 9:00amCentral Campus – Room 301
URL:https://calvaryphx.com/event/faith-today-26/
CATEGORIES:Recurring
ATTACH;FMTTYPE=image/jpeg:https://calvaryphx.com/wp-content/uploads/2026/04/tecevent-faith-today-1.jpeg
END:VEVENT
BEGIN:VEVENT
DTSTART;TZID=America/Phoenix:20280423T090000
DTEND;TZID=America/Phoenix:20280423T103000
DTSTAMP:20260423T031245
CREATED:20260423T041536Z
LAST-MODIFIED:20260423T041538Z
UID:10010343-1840093200-1840098600@calvaryphx.com
SUMMARY:Korean Service
DESCRIPTION:Join us for this Korean Service led by Pastor Sean Kang.  \nSundays\, 9:00amCentral Campus – Chapel
URL:https://calvaryphx.com/event/korean-service-26/
CATEGORIES:Church Wide
ATTACH;FMTTYPE=image/jpeg:https://calvaryphx.com/wp-content/uploads/2026/04/tecevent-korean-service-2.jpeg
END:VEVENT
BEGIN:VEVENT
DTSTART;TZID=America/Phoenix:20280423T094500
DTEND;TZID=America/Phoenix:20280423T104500
DTSTAMP:20260423T031245
CREATED:20260423T041538Z
LAST-MODIFIED:20260423T041539Z
UID:10010344-1840095900-1840099500@calvaryphx.com
SUMMARY:Men's Bible Study NW
DESCRIPTION:Join Men of Calvary for this 9:45am Bible Study on Sundays. Coffee and snacks provided. \nSundays\, 9:45am NW Campus – Room 15 (down the CK Hallway – look for the green Aframe sign)
URL:https://calvaryphx.com/event/mens-bible-study-nw-26/
CATEGORIES:Recurring
ATTACH;FMTTYPE=image/jpeg:https://calvaryphx.com/wp-content/uploads/2026/04/tecevent-mens-bible-study-nw-1.jpeg
END:VEVENT
END:VCALENDAR