BEGIN:VCALENDAR
VERSION:2.0
PRODID:-//CalvaryPHX - ECPv6.9.0//NONSGML v1.0//EN
CALSCALE:GREGORIAN
METHOD:PUBLISH
X-ORIGINAL-URL:https://calvaryphx.com
X-WR-CALDESC:Events for CalvaryPHX
REFRESH-INTERVAL;VALUE=DURATION:PT1H
X-Robots-Tag:noindex
X-PUBLISHED-TTL:PT1H
BEGIN:VTIMEZONE
TZID:America/Phoenix
BEGIN:STANDARD
TZOFFSETFROM:-0700
TZOFFSETTO:-0700
TZNAME:MST
DTSTART:20280101T000000
END:STANDARD
END:VTIMEZONE
BEGIN:VEVENT
DTSTART;TZID=America/Phoenix:20280420T060000
DTEND;TZID=America/Phoenix:20280420T080000
DTSTAMP:20260420T230636
CREATED:20260420T041605Z
LAST-MODIFIED:20260420T041607Z
UID:10010319-1839823200-1839830400@calvaryphx.com
SUMMARY:Morning Prayer
DESCRIPTION:Did you know that there are prayer groups meeting every morning at CalvaryPHX? It is a time for CalvaryPHX to come together in prayer and petition\, with thanksgiving\, to present our requests to God.\n\nYou can submit a prayer request in the atriums or online. Or\, join us at any or all of our gatherings:\n\nMondays-Fridays – 6:00amNW Campus – Children’s Worship Room \nNo reservations required; come as you are!
URL:https://calvaryphx.com/event/morning-prayer-878/
CATEGORIES:Recurring
ATTACH;FMTTYPE=image/jpeg:https://calvaryphx.com/wp-content/uploads/2026/04/tecevent-morning-prayer-877.jpeg
END:VEVENT
BEGIN:VEVENT
DTSTART;TZID=America/Phoenix:20280421T060000
DTEND;TZID=America/Phoenix:20280421T080000
DTSTAMP:20260420T230636
CREATED:20260421T031557Z
LAST-MODIFIED:20260421T031600Z
UID:10010321-1839909600-1839916800@calvaryphx.com
SUMMARY:Morning Prayer
DESCRIPTION:Did you know that there are prayer groups meeting every morning at CalvaryPHX? It is a time for CalvaryPHX to come together in prayer and petition\, with thanksgiving\, to present our requests to God.\n\nYou can submit a prayer request in the atriums or online. Or\, join us at any or all of our gatherings:\n\nMondays-Fridays – 6:00amNW Campus – Children’s Worship Room \nNo reservations required; come as you are!
URL:https://calvaryphx.com/event/morning-prayer-131/
CATEGORIES:Recurring
ATTACH;FMTTYPE=image/jpeg:https://calvaryphx.com/wp-content/uploads/2026/04/tecevent-morning-prayer-13.jpeg
END:VEVENT
BEGIN:VEVENT
DTSTART;TZID=America/Phoenix:20280421T060000
DTEND;TZID=America/Phoenix:20280421T080000
DTSTAMP:20260420T230636
CREATED:20260421T031600Z
LAST-MODIFIED:20260421T031602Z
UID:10010322-1839909600-1839916800@calvaryphx.com
SUMMARY:Morning Prayer
DESCRIPTION:Did you know that there are prayer groups meeting every morning at CalvaryPHX? It is a time for CalvaryPHX to come together in prayer and petition\, with thanksgiving\, to present our requests to God.\n\nYou can submit a prayer request in the atriums or online. Or\, join us at any or all of our gatherings:\n\nMondays-Fridays – 6:00amNW Campus – Children’s Worship Room \nNo reservations required; come as you are!
URL:https://calvaryphx.com/event/morning-prayer-879/
CATEGORIES:Recurring
ATTACH;FMTTYPE=image/jpeg:https://calvaryphx.com/wp-content/uploads/2026/04/tecevent-morning-prayer-878.jpeg
END:VEVENT
BEGIN:VEVENT
DTSTART;TZID=America/Phoenix:20280421T190000
DTEND;TZID=America/Phoenix:20280421T203000
DTSTAMP:20260420T230636
CREATED:20260421T031602Z
LAST-MODIFIED:20260421T031604Z
UID:10010323-1839956400-1839961800@calvaryphx.com
SUMMARY:Friday Night Prayer
DESCRIPTION:A weekly prayer group to lift up our congregation and community in prayer.  \nFridays\, 7:00pmCentral Campus – Room 204 \nNo reservations required; come as you are!
URL:https://calvaryphx.com/event/friday-night-prayer-26/
CATEGORIES:Recurring
ATTACH;FMTTYPE=image/jpeg:https://calvaryphx.com/wp-content/uploads/2026/04/tecevent-friday-night-prayer-2.jpeg
END:VEVENT
END:VCALENDAR