BEGIN:VCALENDAR
VERSION:2.0
PRODID:-//CalvaryPHX - ECPv6.9.0//NONSGML v1.0//EN
CALSCALE:GREGORIAN
METHOD:PUBLISH
X-WR-CALNAME:CalvaryPHX
X-ORIGINAL-URL:https://calvaryphx.com
X-WR-CALDESC:Events for CalvaryPHX
REFRESH-INTERVAL;VALUE=DURATION:PT1H
X-Robots-Tag:noindex
X-PUBLISHED-TTL:PT1H
BEGIN:VTIMEZONE
TZID:America/Phoenix
BEGIN:STANDARD
TZOFFSETFROM:-0700
TZOFFSETTO:-0700
TZNAME:MST
DTSTART:20260101T000000
END:STANDARD
END:VTIMEZONE
BEGIN:VEVENT
DTSTART;TZID=America/Phoenix:20260420T180000
DTEND;TZID=America/Phoenix:20260420T203000
DTSTAMP:20260419T112342
CREATED:20260401T071649Z
LAST-MODIFIED:20260401T071650Z
UID:10008136-1776708000-1776717000@calvaryphx.com
SUMMARY:Celebrate Recovery
DESCRIPTION:Celebrate Recovery is a weekly Christ-centered 12 Step program that helps us overcome our hurts\, hang-ups\, and habits. To determine if CR is right for you or someone you love\, visit: https://www.celebraterecovery.com/ \n\nMondays\, 6:00pm Central Campus\, Room 301
URL:https://calvaryphx.com/event/celebrate-recovery-27/
CATEGORIES:Recurring
ATTACH;FMTTYPE=image/jpeg:https://calvaryphx.com/wp-content/uploads/2026/04/tecevent-celebrate-recovery-2.jpeg
END:VEVENT
BEGIN:VEVENT
DTSTART;TZID=America/Phoenix:20260420T100000
DTEND;TZID=America/Phoenix:20260420T123000
DTSTAMP:20260419T112342
CREATED:20260401T071648Z
LAST-MODIFIED:20260401T071649Z
UID:10008135-1776679200-1776688200@calvaryphx.com
SUMMARY:Tapestries Crafting Class
DESCRIPTION:Learn new crafting methods. Kits and instructions available for you to make and take items home. ‘Card-Making’ meets every 2nd Monday of the month\, and ‘Jewelry-Making’ meets every 3rd Monday of the month. \nTapestries is a ministry focused on utilizing their love and skill in crafting to raise funds to support CalvaryPHX missions. They host classes twice a month and at least 2 craft fairs throughout the year. \n\n2nd & 3rd Mondays\, 10:00am Central Campus\, Fellowship Hall
URL:https://calvaryphx.com/event/tapestries-crafting-class-13/
CATEGORIES:Seasonal
ATTACH;FMTTYPE=image/jpeg:https://calvaryphx.com/wp-content/uploads/2026/04/tecevent-tapestries-crafting-class-1.jpeg
END:VEVENT
BEGIN:VEVENT
DTSTART;TZID=America/Phoenix:20260420T060000
DTEND;TZID=America/Phoenix:20260420T080000
DTSTAMP:20260419T112342
CREATED:20260401T071645Z
LAST-MODIFIED:20260401T071647Z
UID:10008134-1776664800-1776672000@calvaryphx.com
SUMMARY:Morning Prayer
DESCRIPTION:Did you know that there are prayer groups meeting every morning at CalvaryPHX? It is a time for CalvaryPHX to come together in prayer and petition\, with thanksgiving\, to present our requests to God.\n\nYou can submit a prayer request in the atriums or online. Or\, join us at any or all of our gatherings:\n\nMondays-Fridays – 6:00amNW Campus – Children’s Worship Room \nNo reservations required; come as you are!
URL:https://calvaryphx.com/event/morning-prayer-131/
CATEGORIES:Recurring
ATTACH;FMTTYPE=image/jpeg:https://calvaryphx.com/wp-content/uploads/2026/04/tecevent-morning-prayer-13.jpeg
END:VEVENT
BEGIN:VEVENT
DTSTART;TZID=America/Phoenix:20260419T103000
DTEND;TZID=America/Phoenix:20260419T133000
DTSTAMP:20260419T112342
CREATED:20260401T211526Z
LAST-MODIFIED:20260401T211527Z
UID:10010265-1776594600-1776605400@calvaryphx.com
SUMMARY:CY Hot Dog Fundraiser
DESCRIPTION:CalvaryYouth students – Sign up to sell hot dogs during 11am service to earn money for summer camp! Students will share in the proceeds which will be credited towards their cost of the 2026 summer camp. \nSunday\, April 19Northwest Campus10:30am-1:30pm \nSign up here!
URL:https://calvaryphx.com/event/cy-hot-dog-fundraiser/
CATEGORIES:Special Event
ATTACH;FMTTYPE=image/jpeg:https://calvaryphx.com/wp-content/uploads/2026/04/tecevent-cy-hot-dog-fundraiser.jpeg
END:VEVENT
END:VCALENDAR