BEGIN:VCALENDAR
VERSION:2.0
PRODID:-//CalvaryPHX - ECPv6.9.0//NONSGML v1.0//EN
CALSCALE:GREGORIAN
METHOD:PUBLISH
X-WR-CALNAME:CalvaryPHX
X-ORIGINAL-URL:https://calvaryphx.com
X-WR-CALDESC:Events for CalvaryPHX
REFRESH-INTERVAL;VALUE=DURATION:PT1H
X-Robots-Tag:noindex
X-PUBLISHED-TTL:PT1H
BEGIN:VTIMEZONE
TZID:America/Phoenix
BEGIN:STANDARD
TZOFFSETFROM:-0700
TZOFFSETTO:-0700
TZNAME:MST
DTSTART:20280101T000000
END:STANDARD
END:VTIMEZONE
BEGIN:VEVENT
DTSTART;TZID=America/Phoenix:20280410T100000
DTEND;TZID=America/Phoenix:20280410T123000
DTSTAMP:20260425T072257
CREATED:20260410T031554Z
LAST-MODIFIED:20260410T031555Z
UID:10010291-1838973600-1838982600@calvaryphx.com
SUMMARY:Tapestries Crafting Class
DESCRIPTION:Learn new crafting methods. Kits and instructions available for you to make and take items home. ‘Card-Making’ meets every 2nd Monday of the month\, and ‘Jewelry-Making’ meets every 3rd Monday of the month. \nTapestries is a ministry focused on utilizing their love and skill in crafting to raise funds to support CalvaryPHX missions. They host classes twice a month and at least 2 craft fairs throughout the year. \n\n2nd & 3rd Mondays\, 10:00am Central Campus\, Fellowship Hall
URL:https://calvaryphx.com/event/tapestries-crafting-class-11/
CATEGORIES:Seasonal
ATTACH;FMTTYPE=image/jpeg:https://calvaryphx.com/wp-content/uploads/2026/04/tecevent-tapestries-crafting-class-48.jpeg
END:VEVENT
BEGIN:VEVENT
DTSTART;TZID=America/Phoenix:20280417T100000
DTEND;TZID=America/Phoenix:20280417T123000
DTSTAMP:20260425T072257
CREATED:20260417T061547Z
LAST-MODIFIED:20260417T061548Z
UID:10010311-1839578400-1839587400@calvaryphx.com
SUMMARY:Tapestries Crafting Class
DESCRIPTION:Learn new crafting methods. Kits and instructions available for you to make and take items home. ‘Card-Making’ meets every 2nd Monday of the month\, and ‘Jewelry-Making’ meets every 3rd Monday of the month. \nTapestries is a ministry focused on utilizing their love and skill in crafting to raise funds to support CalvaryPHX missions. They host classes twice a month and at least 2 craft fairs throughout the year. \n\n2nd & 3rd Mondays\, 10:00am Central Campus\, Fellowship Hall
URL:https://calvaryphx.com/event/tapestries-crafting-class-12/
CATEGORIES:Seasonal
ATTACH;FMTTYPE=image/jpeg:https://calvaryphx.com/wp-content/uploads/2026/04/tecevent-tapestries-crafting-class.jpeg
END:VEVENT
END:VCALENDAR