BEGIN:VCALENDAR
VERSION:2.0
PRODID:-//CalvaryPHX - ECPv6.9.0//NONSGML v1.0//EN
CALSCALE:GREGORIAN
METHOD:PUBLISH
X-WR-CALNAME:CalvaryPHX
X-ORIGINAL-URL:https://calvaryphx.com
X-WR-CALDESC:Events for CalvaryPHX
REFRESH-INTERVAL;VALUE=DURATION:PT1H
X-Robots-Tag:noindex
X-PUBLISHED-TTL:PT1H
BEGIN:VTIMEZONE
TZID:America/Phoenix
BEGIN:STANDARD
TZOFFSETFROM:-0700
TZOFFSETTO:-0700
TZNAME:MST
DTSTART:20270101T000000
END:STANDARD
END:VTIMEZONE
BEGIN:VEVENT
DTSTART;TZID=America/Phoenix:20270809T100000
DTEND;TZID=America/Phoenix:20270809T123000
DTSTAMP:20260425T042407
CREATED:20260401T074617Z
LAST-MODIFIED:20260401T074618Z
UID:10009271-1817805600-1817814600@calvaryphx.com
SUMMARY:Tapestries Crafting Class
DESCRIPTION:Learn new crafting methods. Kits and instructions available for you to make and take items home. ‘Card-Making’ meets every 2nd Monday of the month\, and ‘Jewelry-Making’ meets every 3rd Monday of the month. \nTapestries is a ministry focused on utilizing their love and skill in crafting to raise funds to support CalvaryPHX missions. They host classes twice a month and at least 2 craft fairs throughout the year. \n\n2nd & 3rd Mondays\, 10:00am Central Campus\, Fellowship Hall
URL:https://calvaryphx.com/event/tapestries-crafting-class-44/
CATEGORIES:Seasonal
ATTACH;FMTTYPE=image/jpeg:https://calvaryphx.com/wp-content/uploads/2026/04/tecevent-tapestries-crafting-class-32.jpeg
END:VEVENT
BEGIN:VEVENT
DTSTART;TZID=America/Phoenix:20270816T100000
DTEND;TZID=America/Phoenix:20270816T123000
DTSTAMP:20260425T042407
CREATED:20260401T074648Z
LAST-MODIFIED:20260401T074649Z
UID:10009290-1818410400-1818419400@calvaryphx.com
SUMMARY:Tapestries Crafting Class
DESCRIPTION:Learn new crafting methods. Kits and instructions available for you to make and take items home. ‘Card-Making’ meets every 2nd Monday of the month\, and ‘Jewelry-Making’ meets every 3rd Monday of the month. \nTapestries is a ministry focused on utilizing their love and skill in crafting to raise funds to support CalvaryPHX missions. They host classes twice a month and at least 2 craft fairs throughout the year. \n\n2nd & 3rd Mondays\, 10:00am Central Campus\, Fellowship Hall
URL:https://calvaryphx.com/event/tapestries-crafting-class-45/
CATEGORIES:Seasonal
ATTACH;FMTTYPE=image/jpeg:https://calvaryphx.com/wp-content/uploads/2026/04/tecevent-tapestries-crafting-class-33.jpeg
END:VEVENT
BEGIN:VEVENT
DTSTART;TZID=America/Phoenix:20270913T100000
DTEND;TZID=America/Phoenix:20270913T123000
DTSTAMP:20260425T042407
CREATED:20260401T074854Z
LAST-MODIFIED:20260401T074854Z
UID:10009366-1820829600-1820838600@calvaryphx.com
SUMMARY:Tapestries Crafting Class
DESCRIPTION:Learn new crafting methods. Kits and instructions available for you to make and take items home. ‘Card-Making’ meets every 2nd Monday of the month\, and ‘Jewelry-Making’ meets every 3rd Monday of the month. \nTapestries is a ministry focused on utilizing their love and skill in crafting to raise funds to support CalvaryPHX missions. They host classes twice a month and at least 2 craft fairs throughout the year. \n\n2nd & 3rd Mondays\, 10:00am Central Campus\, Fellowship Hall
URL:https://calvaryphx.com/event/tapestries-crafting-class-46/
CATEGORIES:Seasonal
ATTACH;FMTTYPE=image/jpeg:https://calvaryphx.com/wp-content/uploads/2026/04/tecevent-tapestries-crafting-class-34.jpeg
END:VEVENT
BEGIN:VEVENT
DTSTART;TZID=America/Phoenix:20270920T100000
DTEND;TZID=America/Phoenix:20270920T123000
DTSTAMP:20260425T042407
CREATED:20260401T074928Z
LAST-MODIFIED:20260401T074929Z
UID:10009386-1821434400-1821443400@calvaryphx.com
SUMMARY:Tapestries Crafting Class
DESCRIPTION:Learn new crafting methods. Kits and instructions available for you to make and take items home. ‘Card-Making’ meets every 2nd Monday of the month\, and ‘Jewelry-Making’ meets every 3rd Monday of the month. \nTapestries is a ministry focused on utilizing their love and skill in crafting to raise funds to support CalvaryPHX missions. They host classes twice a month and at least 2 craft fairs throughout the year. \n\n2nd & 3rd Mondays\, 10:00am Central Campus\, Fellowship Hall
URL:https://calvaryphx.com/event/tapestries-crafting-class-47/
CATEGORIES:Seasonal
ATTACH;FMTTYPE=image/jpeg:https://calvaryphx.com/wp-content/uploads/2026/04/tecevent-tapestries-crafting-class-35.jpeg
END:VEVENT
BEGIN:VEVENT
DTSTART;TZID=America/Phoenix:20271011T100000
DTEND;TZID=America/Phoenix:20271011T123000
DTSTAMP:20260425T042407
CREATED:20260401T075110Z
LAST-MODIFIED:20260401T075110Z
UID:10009443-1823248800-1823257800@calvaryphx.com
SUMMARY:Tapestries Crafting Class
DESCRIPTION:Learn new crafting methods. Kits and instructions available for you to make and take items home. ‘Card-Making’ meets every 2nd Monday of the month\, and ‘Jewelry-Making’ meets every 3rd Monday of the month. \nTapestries is a ministry focused on utilizing their love and skill in crafting to raise funds to support CalvaryPHX missions. They host classes twice a month and at least 2 craft fairs throughout the year. \n\n2nd & 3rd Mondays\, 10:00am Central Campus\, Fellowship Hall
URL:https://calvaryphx.com/event/tapestries-crafting-class-48/
CATEGORIES:Seasonal
ATTACH;FMTTYPE=image/jpeg:https://calvaryphx.com/wp-content/uploads/2026/04/tecevent-tapestries-crafting-class-36.jpeg
END:VEVENT
BEGIN:VEVENT
DTSTART;TZID=America/Phoenix:20271018T100000
DTEND;TZID=America/Phoenix:20271018T123000
DTSTAMP:20260425T042407
CREATED:20260401T075141Z
LAST-MODIFIED:20260401T075142Z
UID:10009463-1823853600-1823862600@calvaryphx.com
SUMMARY:Tapestries Crafting Class
DESCRIPTION:Learn new crafting methods. Kits and instructions available for you to make and take items home. ‘Card-Making’ meets every 2nd Monday of the month\, and ‘Jewelry-Making’ meets every 3rd Monday of the month. \nTapestries is a ministry focused on utilizing their love and skill in crafting to raise funds to support CalvaryPHX missions. They host classes twice a month and at least 2 craft fairs throughout the year. \n\n2nd & 3rd Mondays\, 10:00am Central Campus\, Fellowship Hall
URL:https://calvaryphx.com/event/tapestries-crafting-class-49/
CATEGORIES:Seasonal
ATTACH;FMTTYPE=image/jpeg:https://calvaryphx.com/wp-content/uploads/2026/04/tecevent-tapestries-crafting-class-37.jpeg
END:VEVENT
BEGIN:VEVENT
DTSTART;TZID=America/Phoenix:20271108T100000
DTEND;TZID=America/Phoenix:20271108T123000
DTSTAMP:20260425T042407
CREATED:20260401T075320Z
LAST-MODIFIED:20260401T075321Z
UID:10009632-1825668000-1825677000@calvaryphx.com
SUMMARY:Tapestries Crafting Class
DESCRIPTION:Learn new crafting methods. Kits and instructions available for you to make and take items home. ‘Card-Making’ meets every 2nd Monday of the month\, and ‘Jewelry-Making’ meets every 3rd Monday of the month. \nTapestries is a ministry focused on utilizing their love and skill in crafting to raise funds to support CalvaryPHX missions. They host classes twice a month and at least 2 craft fairs throughout the year. \n\n2nd & 3rd Mondays\, 10:00am Central Campus\, Fellowship Hall
URL:https://calvaryphx.com/event/tapestries-crafting-class/
CATEGORIES:Seasonal
ATTACH;FMTTYPE=image/jpeg:https://calvaryphx.com/wp-content/uploads/2026/04/tecevent-tapestries-crafting-class-38.jpeg
END:VEVENT
BEGIN:VEVENT
DTSTART;TZID=America/Phoenix:20271115T100000
DTEND;TZID=America/Phoenix:20271115T123000
DTSTAMP:20260425T042407
CREATED:20260401T075355Z
LAST-MODIFIED:20260401T075355Z
UID:10009654-1826272800-1826281800@calvaryphx.com
SUMMARY:Tapestries Crafting Class
DESCRIPTION:Learn new crafting methods. Kits and instructions available for you to make and take items home. ‘Card-Making’ meets every 2nd Monday of the month\, and ‘Jewelry-Making’ meets every 3rd Monday of the month. \nTapestries is a ministry focused on utilizing their love and skill in crafting to raise funds to support CalvaryPHX missions. They host classes twice a month and at least 2 craft fairs throughout the year. \n\n2nd & 3rd Mondays\, 10:00am Central Campus\, Fellowship Hall
URL:https://calvaryphx.com/event/tapestries-crafting-class-2/
CATEGORIES:Seasonal
ATTACH;FMTTYPE=image/jpeg:https://calvaryphx.com/wp-content/uploads/2026/04/tecevent-tapestries-crafting-class-39.jpeg
END:VEVENT
BEGIN:VEVENT
DTSTART;TZID=America/Phoenix:20271213T100000
DTEND;TZID=America/Phoenix:20271213T123000
DTSTAMP:20260425T042407
CREATED:20260401T075603Z
LAST-MODIFIED:20260401T075603Z
UID:10009782-1828692000-1828701000@calvaryphx.com
SUMMARY:Tapestries Crafting Class
DESCRIPTION:Learn new crafting methods. Kits and instructions available for you to make and take items home. ‘Card-Making’ meets every 2nd Monday of the month\, and ‘Jewelry-Making’ meets every 3rd Monday of the month. \nTapestries is a ministry focused on utilizing their love and skill in crafting to raise funds to support CalvaryPHX missions. They host classes twice a month and at least 2 craft fairs throughout the year. \n\n2nd & 3rd Mondays\, 10:00am Central Campus\, Fellowship Hall
URL:https://calvaryphx.com/event/tapestries-crafting-class-3/
CATEGORIES:Seasonal
ATTACH;FMTTYPE=image/jpeg:https://calvaryphx.com/wp-content/uploads/2026/04/tecevent-tapestries-crafting-class-40.jpeg
END:VEVENT
BEGIN:VEVENT
DTSTART;TZID=America/Phoenix:20271220T100000
DTEND;TZID=America/Phoenix:20271220T123000
DTSTAMP:20260425T042407
CREATED:20260401T075637Z
LAST-MODIFIED:20260401T075638Z
UID:10009810-1829296800-1829305800@calvaryphx.com
SUMMARY:Tapestries Crafting Class
DESCRIPTION:Learn new crafting methods. Kits and instructions available for you to make and take items home. ‘Card-Making’ meets every 2nd Monday of the month\, and ‘Jewelry-Making’ meets every 3rd Monday of the month. \nTapestries is a ministry focused on utilizing their love and skill in crafting to raise funds to support CalvaryPHX missions. They host classes twice a month and at least 2 craft fairs throughout the year. \n\n2nd & 3rd Mondays\, 10:00am Central Campus\, Fellowship Hall
URL:https://calvaryphx.com/event/tapestries-crafting-class-4/
CATEGORIES:Seasonal
ATTACH;FMTTYPE=image/jpeg:https://calvaryphx.com/wp-content/uploads/2026/04/tecevent-tapestries-crafting-class-41.jpeg
END:VEVENT
BEGIN:VEVENT
DTSTART;TZID=America/Phoenix:20280110T100000
DTEND;TZID=America/Phoenix:20280110T123000
DTSTAMP:20260425T042407
CREATED:20260401T075817Z
LAST-MODIFIED:20260401T075818Z
UID:10009871-1831111200-1831120200@calvaryphx.com
SUMMARY:Tapestries Crafting Class
DESCRIPTION:Learn new crafting methods. Kits and instructions available for you to make and take items home. ‘Card-Making’ meets every 2nd Monday of the month\, and ‘Jewelry-Making’ meets every 3rd Monday of the month. \nTapestries is a ministry focused on utilizing their love and skill in crafting to raise funds to support CalvaryPHX missions. They host classes twice a month and at least 2 craft fairs throughout the year. \n\n2nd & 3rd Mondays\, 10:00am Central Campus\, Fellowship Hall
URL:https://calvaryphx.com/event/tapestries-crafting-class-5/
CATEGORIES:Seasonal
ATTACH;FMTTYPE=image/jpeg:https://calvaryphx.com/wp-content/uploads/2026/04/tecevent-tapestries-crafting-class-42.jpeg
END:VEVENT
BEGIN:VEVENT
DTSTART;TZID=America/Phoenix:20280117T100000
DTEND;TZID=America/Phoenix:20280117T123000
DTSTAMP:20260425T042407
CREATED:20260401T075849Z
LAST-MODIFIED:20260401T075850Z
UID:10009893-1831716000-1831725000@calvaryphx.com
SUMMARY:Tapestries Crafting Class
DESCRIPTION:Learn new crafting methods. Kits and instructions available for you to make and take items home. ‘Card-Making’ meets every 2nd Monday of the month\, and ‘Jewelry-Making’ meets every 3rd Monday of the month. \nTapestries is a ministry focused on utilizing their love and skill in crafting to raise funds to support CalvaryPHX missions. They host classes twice a month and at least 2 craft fairs throughout the year. \n\n2nd & 3rd Mondays\, 10:00am Central Campus\, Fellowship Hall
URL:https://calvaryphx.com/event/tapestries-crafting-class-6/
CATEGORIES:Seasonal
ATTACH;FMTTYPE=image/jpeg:https://calvaryphx.com/wp-content/uploads/2026/04/tecevent-tapestries-crafting-class-43.jpeg
END:VEVENT
BEGIN:VEVENT
DTSTART;TZID=America/Phoenix:20280214T100000
DTEND;TZID=America/Phoenix:20280214T123000
DTSTAMP:20260425T042407
CREATED:20260401T080101Z
LAST-MODIFIED:20260401T080101Z
UID:10009996-1834135200-1834144200@calvaryphx.com
SUMMARY:Tapestries Crafting Class
DESCRIPTION:Learn new crafting methods. Kits and instructions available for you to make and take items home. ‘Card-Making’ meets every 2nd Monday of the month\, and ‘Jewelry-Making’ meets every 3rd Monday of the month. \nTapestries is a ministry focused on utilizing their love and skill in crafting to raise funds to support CalvaryPHX missions. They host classes twice a month and at least 2 craft fairs throughout the year. \n\n2nd & 3rd Mondays\, 10:00am Central Campus\, Fellowship Hall
URL:https://calvaryphx.com/event/tapestries-crafting-class-7/
CATEGORIES:Seasonal
ATTACH;FMTTYPE=image/jpeg:https://calvaryphx.com/wp-content/uploads/2026/04/tecevent-tapestries-crafting-class-44.jpeg
END:VEVENT
BEGIN:VEVENT
DTSTART;TZID=America/Phoenix:20280221T100000
DTEND;TZID=America/Phoenix:20280221T123000
DTSTAMP:20260425T042407
CREATED:20260401T080132Z
LAST-MODIFIED:20260401T080133Z
UID:10010021-1834740000-1834749000@calvaryphx.com
SUMMARY:Tapestries Crafting Class
DESCRIPTION:Learn new crafting methods. Kits and instructions available for you to make and take items home. ‘Card-Making’ meets every 2nd Monday of the month\, and ‘Jewelry-Making’ meets every 3rd Monday of the month. \nTapestries is a ministry focused on utilizing their love and skill in crafting to raise funds to support CalvaryPHX missions. They host classes twice a month and at least 2 craft fairs throughout the year. \n\n2nd & 3rd Mondays\, 10:00am Central Campus\, Fellowship Hall
URL:https://calvaryphx.com/event/tapestries-crafting-class-8/
CATEGORIES:Seasonal
ATTACH;FMTTYPE=image/jpeg:https://calvaryphx.com/wp-content/uploads/2026/04/tecevent-tapestries-crafting-class-45.jpeg
END:VEVENT
BEGIN:VEVENT
DTSTART;TZID=America/Phoenix:20280313T100000
DTEND;TZID=America/Phoenix:20280313T123000
DTSTAMP:20260425T042407
CREATED:20260401T080310Z
LAST-MODIFIED:20260401T080311Z
UID:10010195-1836554400-1836563400@calvaryphx.com
SUMMARY:Tapestries Crafting Class
DESCRIPTION:Learn new crafting methods. Kits and instructions available for you to make and take items home. ‘Card-Making’ meets every 2nd Monday of the month\, and ‘Jewelry-Making’ meets every 3rd Monday of the month. \nTapestries is a ministry focused on utilizing their love and skill in crafting to raise funds to support CalvaryPHX missions. They host classes twice a month and at least 2 craft fairs throughout the year. \n\n2nd & 3rd Mondays\, 10:00am Central Campus\, Fellowship Hall
URL:https://calvaryphx.com/event/tapestries-crafting-class-9/
CATEGORIES:Seasonal
ATTACH;FMTTYPE=image/jpeg:https://calvaryphx.com/wp-content/uploads/2026/04/tecevent-tapestries-crafting-class-46.jpeg
END:VEVENT
BEGIN:VEVENT
DTSTART;TZID=America/Phoenix:20280320T100000
DTEND;TZID=America/Phoenix:20280320T123000
DTSTAMP:20260425T042407
CREATED:20260401T080341Z
LAST-MODIFIED:20260401T080341Z
UID:10010228-1837159200-1837168200@calvaryphx.com
SUMMARY:Tapestries Crafting Class
DESCRIPTION:Learn new crafting methods. Kits and instructions available for you to make and take items home. ‘Card-Making’ meets every 2nd Monday of the month\, and ‘Jewelry-Making’ meets every 3rd Monday of the month. \nTapestries is a ministry focused on utilizing their love and skill in crafting to raise funds to support CalvaryPHX missions. They host classes twice a month and at least 2 craft fairs throughout the year. \n\n2nd & 3rd Mondays\, 10:00am Central Campus\, Fellowship Hall
URL:https://calvaryphx.com/event/tapestries-crafting-class-10/
CATEGORIES:Seasonal
ATTACH;FMTTYPE=image/jpeg:https://calvaryphx.com/wp-content/uploads/2026/04/tecevent-tapestries-crafting-class-47.jpeg
END:VEVENT
BEGIN:VEVENT
DTSTART;TZID=America/Phoenix:20280410T100000
DTEND;TZID=America/Phoenix:20280410T123000
DTSTAMP:20260425T042407
CREATED:20260410T031554Z
LAST-MODIFIED:20260410T031555Z
UID:10010291-1838973600-1838982600@calvaryphx.com
SUMMARY:Tapestries Crafting Class
DESCRIPTION:Learn new crafting methods. Kits and instructions available for you to make and take items home. ‘Card-Making’ meets every 2nd Monday of the month\, and ‘Jewelry-Making’ meets every 3rd Monday of the month. \nTapestries is a ministry focused on utilizing their love and skill in crafting to raise funds to support CalvaryPHX missions. They host classes twice a month and at least 2 craft fairs throughout the year. \n\n2nd & 3rd Mondays\, 10:00am Central Campus\, Fellowship Hall
URL:https://calvaryphx.com/event/tapestries-crafting-class-11/
CATEGORIES:Seasonal
ATTACH;FMTTYPE=image/jpeg:https://calvaryphx.com/wp-content/uploads/2026/04/tecevent-tapestries-crafting-class-48.jpeg
END:VEVENT
BEGIN:VEVENT
DTSTART;TZID=America/Phoenix:20280417T100000
DTEND;TZID=America/Phoenix:20280417T123000
DTSTAMP:20260425T042407
CREATED:20260417T061547Z
LAST-MODIFIED:20260417T061548Z
UID:10010311-1839578400-1839587400@calvaryphx.com
SUMMARY:Tapestries Crafting Class
DESCRIPTION:Learn new crafting methods. Kits and instructions available for you to make and take items home. ‘Card-Making’ meets every 2nd Monday of the month\, and ‘Jewelry-Making’ meets every 3rd Monday of the month. \nTapestries is a ministry focused on utilizing their love and skill in crafting to raise funds to support CalvaryPHX missions. They host classes twice a month and at least 2 craft fairs throughout the year. \n\n2nd & 3rd Mondays\, 10:00am Central Campus\, Fellowship Hall
URL:https://calvaryphx.com/event/tapestries-crafting-class-12/
CATEGORIES:Seasonal
ATTACH;FMTTYPE=image/jpeg:https://calvaryphx.com/wp-content/uploads/2026/04/tecevent-tapestries-crafting-class.jpeg
END:VEVENT
END:VCALENDAR