BEGIN:VCALENDAR
VERSION:2.0
PRODID:-//CalvaryPHX - ECPv6.9.0//NONSGML v1.0//EN
CALSCALE:GREGORIAN
METHOD:PUBLISH
X-WR-CALNAME:CalvaryPHX
X-ORIGINAL-URL:https://calvaryphx.com
X-WR-CALDESC:Events for CalvaryPHX
REFRESH-INTERVAL;VALUE=DURATION:PT1H
X-Robots-Tag:noindex
X-PUBLISHED-TTL:PT1H
BEGIN:VTIMEZONE
TZID:America/Phoenix
BEGIN:STANDARD
TZOFFSETFROM:-0700
TZOFFSETTO:-0700
TZNAME:MST
DTSTART:20260101T000000
END:STANDARD
END:VTIMEZONE
BEGIN:VEVENT
DTSTART;TZID=America/Phoenix:20260713T100000
DTEND;TZID=America/Phoenix:20260713T123000
DTSTAMP:20260424T085333
CREATED:20260401T072109Z
LAST-MODIFIED:20260401T072109Z
UID:10008305-1783936800-1783945800@calvaryphx.com
SUMMARY:Tapestries Crafting Class
DESCRIPTION:Learn new crafting methods. Kits and instructions available for you to make and take items home. ‘Card-Making’ meets every 2nd Monday of the month\, and ‘Jewelry-Making’ meets every 3rd Monday of the month. \nTapestries is a ministry focused on utilizing their love and skill in crafting to raise funds to support CalvaryPHX missions. They host classes twice a month and at least 2 craft fairs throughout the year. \n\n2nd & 3rd Mondays\, 10:00am Central Campus\, Fellowship Hall
URL:https://calvaryphx.com/event/tapestries-crafting-class-18/
CATEGORIES:Seasonal
ATTACH;FMTTYPE=image/jpeg:https://calvaryphx.com/wp-content/uploads/2026/04/tecevent-tapestries-crafting-class-6.jpeg
END:VEVENT
BEGIN:VEVENT
DTSTART;TZID=America/Phoenix:20260720T100000
DTEND;TZID=America/Phoenix:20260720T123000
DTSTAMP:20260424T085333
CREATED:20260401T072128Z
LAST-MODIFIED:20260401T072129Z
UID:10008319-1784541600-1784550600@calvaryphx.com
SUMMARY:Tapestries Crafting Class
DESCRIPTION:Learn new crafting methods. Kits and instructions available for you to make and take items home. ‘Card-Making’ meets every 2nd Monday of the month\, and ‘Jewelry-Making’ meets every 3rd Monday of the month. \nTapestries is a ministry focused on utilizing their love and skill in crafting to raise funds to support CalvaryPHX missions. They host classes twice a month and at least 2 craft fairs throughout the year. \n\n2nd & 3rd Mondays\, 10:00am Central Campus\, Fellowship Hall
URL:https://calvaryphx.com/event/tapestries-crafting-class-19/
CATEGORIES:Seasonal
ATTACH;FMTTYPE=image/jpeg:https://calvaryphx.com/wp-content/uploads/2026/04/tecevent-tapestries-crafting-class-7.jpeg
END:VEVENT
END:VCALENDAR